BEGIN:VCALENDAR
VERSION:2.0
PRODID:-//  South Dakota American Legion Auxiliary - ECPv6.13.2.1//NONSGML v1.0//EN
CALSCALE:GREGORIAN
METHOD:PUBLISH
X-ORIGINAL-URL:https://www.sdlegionaux.org
X-WR-CALDESC:Events for   South Dakota American Legion Auxiliary
REFRESH-INTERVAL;VALUE=DURATION:PT1H
X-Robots-Tag:noindex
X-PUBLISHED-TTL:PT1H
BEGIN:VTIMEZONE
TZID:UTC
BEGIN:STANDARD
TZOFFSETFROM:+0000
TZOFFSETTO:+0000
TZNAME:UTC
DTSTART:20240101T000000
END:STANDARD
END:VTIMEZONE
BEGIN:VEVENT
DTSTART;VALUE=DATE:20250214
DTEND;VALUE=DATE:20250217
DTSTAMP:20260423T215536
CREATED:20240916T135034Z
LAST-MODIFIED:20250116T222604Z
UID:4190-1739491200-1739750399@www.sdlegionaux.org
SUMMARY:2025 Mid-Winter Conference
DESCRIPTION:Location:\n1500 Shoreline Drive\nOacoma\, South Dakota 57365 \n2025 MIDWINTER CONFERENCE AUXILIARY AGENDA
URL:https://www.sdlegionaux.org/event/2025-mid-winter-conference/
END:VEVENT
BEGIN:VEVENT
DTSTART;VALUE=DATE:20241216
DTEND;VALUE=DATE:20241217
DTSTAMP:20260423T215536
CREATED:20241025T190503Z
LAST-MODIFIED:20241025T190537Z
UID:4266-1734307200-1734393599@www.sdlegionaux.org
SUMMARY:Fort Meade VA - Christmas Party
DESCRIPTION:Fort Meade VA – Christmas Party\nDate: December 16th\nTime: 1:00 pm
URL:https://www.sdlegionaux.org/event/fort-meade-va-christmas-party-2/
END:VEVENT
BEGIN:VEVENT
DTSTART;VALUE=DATE:20241215
DTEND;VALUE=DATE:20241216
DTSTAMP:20260423T215536
CREATED:20241025T190349Z
LAST-MODIFIED:20241025T190349Z
UID:4264-1734220800-1734307199@www.sdlegionaux.org
SUMMARY:Hot Springs VA - Christmas Party
DESCRIPTION:Hot Springs VA – Christmas Party\nDate: December 15th\nTime: 1:00 pm
URL:https://www.sdlegionaux.org/event/hot-springs-va-christmas-party-3/
END:VEVENT
BEGIN:VEVENT
DTSTART;VALUE=DATE:20241214
DTEND;VALUE=DATE:20241215
DTSTAMP:20260423T215536
CREATED:20241025T185954Z
LAST-MODIFIED:20241025T185954Z
UID:4260-1734134400-1734220799@www.sdlegionaux.org
SUMMARY:State Veterans Home - Christmas Party
DESCRIPTION:State Veterans Home – Christmas Party\nDate: December 14th\nTime: 1:00 pm
URL:https://www.sdlegionaux.org/event/state-veterans-home-christmas-party-2/
END:VEVENT
BEGIN:VEVENT
DTSTART;VALUE=DATE:20241210
DTEND;VALUE=DATE:20241211
DTSTAMP:20260423T215536
CREATED:20241025T190132Z
LAST-MODIFIED:20241025T190132Z
UID:4262-1733788800-1733875199@www.sdlegionaux.org
SUMMARY:Human Services Center - Christmas Party
DESCRIPTION:Human Services Center – Christmas Party\nDate: December 10th\nTime: 5:00 pm \nRSVP BY 11/30/24 – Contact Susie Learing to RSVP
URL:https://www.sdlegionaux.org/event/human-services-center-christmas-party-2/
END:VEVENT
BEGIN:VEVENT
DTSTART;VALUE=DATE:20241209
DTEND;VALUE=DATE:20241210
DTSTAMP:20260423T215536
CREATED:20241025T185715Z
LAST-MODIFIED:20241025T185715Z
UID:4256-1733702400-1733788799@www.sdlegionaux.org
SUMMARY:Sioux Falls VA Christmas Party
DESCRIPTION:Sioux Falls VA Christmas Party\nDate: December 9th\nTime: TBD
URL:https://www.sdlegionaux.org/event/sioux-falls-va-christmas-party-2/
END:VEVENT
BEGIN:VEVENT
DTSTART;VALUE=DATE:20241202
DTEND;VALUE=DATE:20241204
DTSTAMP:20260423T215536
CREATED:20241025T185630Z
LAST-MODIFIED:20241025T185630Z
UID:4254-1733097600-1733270399@www.sdlegionaux.org
SUMMARY:Sioux Falls VA Gift Shop
DESCRIPTION:Sioux Falls VA Gift Shop\nDates: December 2nd – December 3rd\nLocation: SFVA Auditorium
URL:https://www.sdlegionaux.org/event/sioux-falls-va-gift-shop-2/
END:VEVENT
BEGIN:VEVENT
DTSTART;VALUE=DATE:20241119
DTEND;VALUE=DATE:20241122
DTSTAMP:20260423T215536
CREATED:20241025T185200Z
LAST-MODIFIED:20241025T185200Z
UID:4246-1731974400-1732233599@www.sdlegionaux.org
SUMMARY:Hot Springs VA - Gift Shop
DESCRIPTION:Hot Springs VA – Gift Shop\nNov 19-21
URL:https://www.sdlegionaux.org/event/hot-springs-va-gift-shop-2/
END:VEVENT
BEGIN:VEVENT
DTSTART;VALUE=DATE:20241118
DTEND;VALUE=DATE:20241121
DTSTAMP:20260423T215536
CREATED:20241025T190733Z
LAST-MODIFIED:20241025T190756Z
UID:4268-1731888000-1732147199@www.sdlegionaux.org
SUMMARY:State Veterans Home - Gift Shop
DESCRIPTION:State Veterans Home – Gift Shop\nDates: November 18-20\nLocation: State Home Auditorium
URL:https://www.sdlegionaux.org/event/state-veterans-home-gift-shop-2/
END:VEVENT
BEGIN:VEVENT
DTSTART;VALUE=DATE:20241118
DTEND;VALUE=DATE:20241121
DTSTAMP:20260423T215536
CREATED:20241025T185836Z
LAST-MODIFIED:20241025T185836Z
UID:4258-1731888000-1732147199@www.sdlegionaux.org
SUMMARY:Sioux Falls VA Christmas Party
DESCRIPTION:Sioux Falls VA Christmas Party\nDates: November 18-20\nLocation: State Home Auditorium
URL:https://www.sdlegionaux.org/event/sioux-falls-va-christmas-party-3/
END:VEVENT
BEGIN:VEVENT
DTSTART;VALUE=DATE:20241117
DTEND;VALUE=DATE:20241120
DTSTAMP:20260423T215536
CREATED:20241025T185338Z
LAST-MODIFIED:20241025T185411Z
UID:4250-1731801600-1732060799@www.sdlegionaux.org
SUMMARY:Fort Meade VA - Gift Shop
DESCRIPTION:Fort Meade VA – Gift Shop\nDates: November 17-19
URL:https://www.sdlegionaux.org/event/fort-meade-va-gift-shop/
END:VEVENT
BEGIN:VEVENT
DTSTART;VALUE=DATE:20241027
DTEND;VALUE=DATE:20241028
DTSTAMP:20260423T215536
CREATED:20240911T002251Z
LAST-MODIFIED:20241025T184812Z
UID:4157-1729987200-1730073599@www.sdlegionaux.org
SUMMARY:District 8 - 2024 Fall Meeting
DESCRIPTION:Location: Wagner Post 11 – Wagner\, SD\nSocial Hour: 11:00 a.m. CT\nMeal: 12:00 p.m. CT\nMeeting: 12:45 p.m. CT @ Wagner Methodist Church
URL:https://www.sdlegionaux.org/event/district-8-2024-fall-meeting/
END:VEVENT
BEGIN:VEVENT
DTSTART;VALUE=DATE:20241026
DTEND;VALUE=DATE:20241027
DTSTAMP:20260423T215536
CREATED:20240911T002116Z
LAST-MODIFIED:20240911T002552Z
UID:4155-1729900800-1729987199@www.sdlegionaux.org
SUMMARY:District 7 - 2024 Fall Meeting
DESCRIPTION:Location: Dell Rapids Post 65 – Dell Rapids\, SD\nSocial Hour: 11:00 a.m. CT\nMeal: 12:00 p.m. CT\nMeeting: 1:00 p.m. CT
URL:https://www.sdlegionaux.org/event/district-7-2024-fall-meeting/
END:VEVENT
BEGIN:VEVENT
DTSTART;TZID=UTC:20241025T080000
DTEND;TZID=UTC:20241025T170000
DTSTAMP:20260423T215536
CREATED:20241025T185458Z
LAST-MODIFIED:20241025T185458Z
UID:4252-1729843200-1729875600@www.sdlegionaux.org
SUMMARY:Fort Meade VA - Christmas Party
DESCRIPTION:Fort Meade VA Christmas Party\nDate: December 16th\nTime: 1:00 pm
URL:https://www.sdlegionaux.org/event/fort-meade-va-christmas-party/
END:VEVENT
BEGIN:VEVENT
DTSTART;TZID=UTC:20241025T080000
DTEND;TZID=UTC:20241025T170000
DTSTAMP:20260423T215536
CREATED:20241025T185256Z
LAST-MODIFIED:20241025T185256Z
UID:4248-1729843200-1729875600@www.sdlegionaux.org
SUMMARY:Hot Springs VA -Christmas Party
DESCRIPTION:Hot Springs VA -Christmas Party\nDate: December 15\, 2024\nTime: 1:00 Pm
URL:https://www.sdlegionaux.org/event/hot-springs-va-christmas-party-2/
END:VEVENT
BEGIN:VEVENT
DTSTART;VALUE=DATE:20241020
DTEND;VALUE=DATE:20241021
DTSTAMP:20260423T215536
CREATED:20240911T001601Z
LAST-MODIFIED:20240911T002534Z
UID:4150-1729382400-1729468799@www.sdlegionaux.org
SUMMARY:District 5 - 2024 Fall Meeting
DESCRIPTION:Location: White Post 88  – White\, SD\nMeal: 11:00 a.m. CT\nMeeting: 12:00 p.m. CT
URL:https://www.sdlegionaux.org/event/district-5-2024-fall-meeting/
END:VEVENT
BEGIN:VEVENT
DTSTART;VALUE=DATE:20240929
DTEND;VALUE=DATE:20240930
DTSTAMP:20260423T215536
CREATED:20240911T001244Z
LAST-MODIFIED:20240911T002515Z
UID:4146-1727568000-1727654399@www.sdlegionaux.org
SUMMARY:District 3 - 2024 Fall Meeting
DESCRIPTION:Location: Miller Post 38  –  Miller\, SD\nSocial Hour: 11:30 a.m. CT\nMeal: 12:00 p.m. CT\nMeeting: 1:00 p.m. CT
URL:https://www.sdlegionaux.org/event/district-3-2024-fall-meeting/
END:VEVENT
BEGIN:VEVENT
DTSTART;VALUE=DATE:20240928
DTEND;VALUE=DATE:20240929
DTSTAMP:20260423T215536
CREATED:20240911T001935Z
LAST-MODIFIED:20240911T002455Z
UID:4153-1727481600-1727567999@www.sdlegionaux.org
SUMMARY:District 6 - 2024 Fall Meeting
DESCRIPTION:Location: Lake Preston Post 63  –  Lake Preston\, SD\nSocial Hour: 11:00 a.m. CT\nMeal: 12:30 p.m. CT\nMeeting: 1:45 p.m. CT – ALA meet at Johnson Henry Funeral Chapel
URL:https://www.sdlegionaux.org/event/district-6-2024-fall-meeting/
END:VEVENT
BEGIN:VEVENT
DTSTART;VALUE=DATE:20240922
DTEND;VALUE=DATE:20240923
DTSTAMP:20260423T215536
CREATED:20240911T001451Z
LAST-MODIFIED:20240911T002426Z
UID:4148-1726963200-1727049599@www.sdlegionaux.org
SUMMARY:District 4 - 2024 Fall Meeting
DESCRIPTION:Location: Redfield Post 92 – Redfield\, SD\nSocial: 12:00 p.m. CT\nMeeting: 1:00 p.m. CT\nMeal: Following meeting
URL:https://www.sdlegionaux.org/event/district-4-2024-fall-meeting/
END:VEVENT
BEGIN:VEVENT
DTSTART;VALUE=DATE:20240915
DTEND;VALUE=DATE:20240916
DTSTAMP:20260423T215536
CREATED:20240911T000804Z
LAST-MODIFIED:20240911T002356Z
UID:4140-1726358400-1726444799@www.sdlegionaux.org
SUMMARY:District 1 - 2024 Fall Meeting
DESCRIPTION:Location: Box Elder Post 315  – Box Elder\, SD\nSocial Hour: 10:00 a.m. MT\nMeal: 11:30 a.m. MT\nMeeting: 12:30 a.m. MT
URL:https://www.sdlegionaux.org/event/district-1-2024-fall-meeting/
END:VEVENT
BEGIN:VEVENT
DTSTART;VALUE=DATE:20240914
DTEND;VALUE=DATE:20240915
DTSTAMP:20260423T215536
CREATED:20240911T001003Z
LAST-MODIFIED:20240911T002328Z
UID:4142-1726272000-1726358399@www.sdlegionaux.org
SUMMARY:District 2 - 2024 Fall Meeting
DESCRIPTION:Location: Wall United Methodist Church – Wall\, SD\nSocial Hour: 9 a.m. MT\nMeeting: 10:00 a.m. MT
URL:https://www.sdlegionaux.org/event/district-2-2024-fall-meeting/
END:VEVENT
BEGIN:VEVENT
DTSTART;VALUE=DATE:20240817
DTEND;VALUE=DATE:20240818
DTSTAMP:20260423T215536
CREATED:20240716T023021Z
LAST-MODIFIED:20240716T023211Z
UID:4000-1723852800-1723939199@www.sdlegionaux.org
SUMMARY:American Legion Dept Commander Morello's Homecoming
DESCRIPTION:
URL:https://www.sdlegionaux.org/event/american-legion-dept-commander-morellos-homecoming/
END:VEVENT
BEGIN:VEVENT
DTSTART;VALUE=DATE:20240727
DTEND;VALUE=DATE:20240728
DTSTAMP:20260423T215536
CREATED:20240716T022310Z
LAST-MODIFIED:20240716T174630Z
UID:3995-1722038400-1722124799@www.sdlegionaux.org
SUMMARY:2024-2025 Dept President AnnaMae Warnier Homecoming
DESCRIPTION:Where: Morningside Event Center Alcester\, SD\nTime: 2:00 pm Social\, 3:00 pm Program \nCOME EARLY OR STAY LATE TO PLAY A ROUND OF GOLF
URL:https://www.sdlegionaux.org/event/2024-2025-dept-president-annamae-warnier-home-coming/
END:VEVENT
BEGIN:VEVENT
DTSTART;VALUE=DATE:20240620
DTEND;VALUE=DATE:20240624
DTSTAMP:20260423T215536
CREATED:20230717T012359Z
LAST-MODIFIED:20230725T234654Z
UID:3507-1718841600-1719187199@www.sdlegionaux.org
SUMMARY:State Convention
DESCRIPTION:LOCATION: Ramkota in Pierre\, SD \nROOMS:\nThere is a block of rooms held under the American Legion for $109.00 per room. Make sure when calling the mention the American Legion block of rooms.
URL:https://www.sdlegionaux.org/event/state-convention/
END:VEVENT
END:VCALENDAR