BEGIN:VCALENDAR
VERSION:2.0
PRODID:-//  South Dakota American Legion Auxiliary - ECPv6.13.2.1//NONSGML v1.0//EN
CALSCALE:GREGORIAN
METHOD:PUBLISH
X-ORIGINAL-URL:https://www.sdlegionaux.org
X-WR-CALDESC:Events for   South Dakota American Legion Auxiliary
REFRESH-INTERVAL;VALUE=DURATION:PT1H
X-Robots-Tag:noindex
X-PUBLISHED-TTL:PT1H
BEGIN:VTIMEZONE
TZID:UTC
BEGIN:STANDARD
TZOFFSETFROM:+0000
TZOFFSETTO:+0000
TZNAME:UTC
DTSTART:20250101T000000
END:STANDARD
END:VTIMEZONE
BEGIN:VEVENT
DTSTART;VALUE=DATE:20260412
DTEND;VALUE=DATE:20260413
DTSTAMP:20260423T153352
CREATED:20260109T123036Z
LAST-MODIFIED:20260302T031217Z
UID:4710-1775952000-1776038399@www.sdlegionaux.org
SUMMARY:District 2 - 2026 Spring District Meeting
DESCRIPTION:Location: Post 22 -818 E Saint Patrick St Rapid City\, SD\nSocial: 11:00 a.m. MT\nLunch: 12:00 a.m. MT\nMeeting: 1:00 p.m. MT
URL:https://www.sdlegionaux.org/event/district-2-2026-spring-district-meeting/
END:VEVENT
BEGIN:VEVENT
DTSTART;VALUE=DATE:20260411
DTEND;VALUE=DATE:20260412
DTSTAMP:20260423T153352
CREATED:20260109T123004Z
LAST-MODIFIED:20260302T025304Z
UID:4708-1775865600-1775951999@www.sdlegionaux.org
SUMMARY:District 1 - 2026 Spring District Meeting
DESCRIPTION:Location: Post 164-3102 E Fairgrounds Loop Spearfish\, SD\nLunch: 12:00 p.m. MT\nMeeting Time: 1:00 p.m. MT
URL:https://www.sdlegionaux.org/event/district-1-2026-spring-district-meeting/
END:VEVENT
BEGIN:VEVENT
DTSTART;VALUE=DATE:20260403
DTEND;VALUE=DATE:20260404
DTSTAMP:20260423T153352
CREATED:20260109T121449Z
LAST-MODIFIED:20260109T143947Z
UID:4686-1775174400-1775260799@www.sdlegionaux.org
SUMMARY:South Dakota ALA Department Office Closed
DESCRIPTION:The South Dakota American Legion Auxiliary Department Office will be closed during this time frame.
URL:https://www.sdlegionaux.org/event/south-dakota-ala-department-office-closed-5/
END:VEVENT
BEGIN:VEVENT
DTSTART;VALUE=DATE:20260328
DTEND;VALUE=DATE:20260329
DTSTAMP:20260423T153352
CREATED:20260109T122926Z
LAST-MODIFIED:20260316T155625Z
UID:4706-1774656000-1774742399@www.sdlegionaux.org
SUMMARY:District 7 - 2026 Spring District Meeting
DESCRIPTION:Location: Sioux Falls Alliance 1600 W Russel Service Rd Sioux Falls\, SD \nSocial: 2:00 pm CT appetizers being served at the building next door to the Alliance -future museum- 1300 N Industrial Ave \nMeeting: 3:00 pm CT (approx\, pending the arrival of Dept Pres/Officers) \nMeal: The LOBO lounge will be open after the meeting for dinner. Dinner-on your own \nPARKING: There is a door on the west side with no steps and the door on the east side has 3 steps.  There is parking to the north and also east of the building.
URL:https://www.sdlegionaux.org/event/district-7-2026-spring-district-meeting/
END:VEVENT
BEGIN:VEVENT
DTSTART;VALUE=DATE:20260328
DTEND;VALUE=DATE:20260329
DTSTAMP:20260423T153352
CREATED:20260109T122816Z
LAST-MODIFIED:20260302T024927Z
UID:4703-1774656000-1774742399@www.sdlegionaux.org
SUMMARY:District 8 - 2026 Spring District Meeting
DESCRIPTION:Location: Main Street Center\, 320 W Main St (location for both Legion & ALA)  Vermillion\, SD\nMeeting Time: 10:00 am CT\nLight lunch served after meeting
URL:https://www.sdlegionaux.org/event/district-8-2026-spring-district-meeting/
END:VEVENT
BEGIN:VEVENT
DTSTART;VALUE=DATE:20260323
DTEND;VALUE=DATE:20260324
DTSTAMP:20260423T153352
CREATED:20260109T121407Z
LAST-MODIFIED:20260109T121407Z
UID:4684-1774224000-1774310399@www.sdlegionaux.org
SUMMARY:South Dakota ALA Department Office Closed
DESCRIPTION:The South Dakota American Legion Auxiliary Department Office will be closed during this time frame.
URL:https://www.sdlegionaux.org/event/south-dakota-ala-department-office-closed-4/
END:VEVENT
BEGIN:VEVENT
DTSTART;VALUE=DATE:20260322
DTEND;VALUE=DATE:20260323
DTSTAMP:20260423T153352
CREATED:20260109T122638Z
LAST-MODIFIED:20260318T002230Z
UID:4699-1774137600-1774223999@www.sdlegionaux.org
SUMMARY:District 6 - 2026 Spring District Meeting
DESCRIPTION:Location: Arlington Post 42 118 Main St South Arlington\, SD\nMeal: Noon at Arlington Post 42\nMeeting: 1:00 pm – City of Arlington Fire Dept/City Hall  202 W Elm St – one block west of Main St on Hwy 14
URL:https://www.sdlegionaux.org/event/district-6-2026-spring-district-meeting/
END:VEVENT
BEGIN:VEVENT
DTSTART;VALUE=DATE:20260321
DTEND;VALUE=DATE:20260322
DTSTAMP:20260423T153352
CREATED:20260109T122741Z
LAST-MODIFIED:20260313T145654Z
UID:4701-1774051200-1774137599@www.sdlegionaux.org
SUMMARY:District 3 - 2026 Spring District Meeting - NEW DATE/TIME
DESCRIPTION:Location: Post Home 223 Main St Gregory\, SD\nMeeting: 11:00 a.m.
URL:https://www.sdlegionaux.org/event/district-3-2026-spring-district-meeting/
END:VEVENT
BEGIN:VEVENT
DTSTART;VALUE=DATE:20260308
DTEND;VALUE=DATE:20260309
DTSTAMP:20260423T153352
CREATED:20260109T122556Z
LAST-MODIFIED:20260204T013729Z
UID:4697-1772928000-1773014399@www.sdlegionaux.org
SUMMARY:District 4 - 2026 Spring District Meeting
DESCRIPTION:Location: First Congregational UCC\, 125 E 7th Ave  Redfield\, SD\nMeeting: 1:00 PM CT\nLunch served after meeting at the Clay Post 92\, 612 N Main
URL:https://www.sdlegionaux.org/event/district-4-2026-spring-district-meeting/
END:VEVENT
BEGIN:VEVENT
DTSTART;VALUE=DATE:20260307
DTEND;VALUE=DATE:20260308
DTSTAMP:20260423T153352
CREATED:20260109T122520Z
LAST-MODIFIED:20260302T024639Z
UID:4695-1772841600-1772927999@www.sdlegionaux.org
SUMMARY:District 5 - 2026 Spring District Meeting
DESCRIPTION:Location: Bruce Community Center\, 409 Jefferson St\, (old church North of Nina’s) Bruce\, SD\nLunch: On your own – Nina’s  – 503 Jay St  Bruce\, SD\nMeeting: 1:00 pm CT\nRefreshments following meeting
URL:https://www.sdlegionaux.org/event/district-5-2026-spring-district-meeting/
END:VEVENT
BEGIN:VEVENT
DTSTART;VALUE=DATE:20260220
DTEND;VALUE=DATE:20260223
DTSTAMP:20260423T153352
CREATED:20250921T214614Z
LAST-MODIFIED:20250921T214614Z
UID:4533-1771545600-1771804799@www.sdlegionaux.org
SUMMARY:2026 Mid-Winter Conference
DESCRIPTION:Location: Cedar Shore Resort & Conference Center\n           Oacoma\, SD  \nDates: February 20-22\, 2026
URL:https://www.sdlegionaux.org/event/2026-mid-winter-conference/
END:VEVENT
BEGIN:VEVENT
DTSTART;VALUE=DATE:20260217
DTEND;VALUE=DATE:20260218
DTSTAMP:20260423T153352
CREATED:20260109T121329Z
LAST-MODIFIED:20260109T121329Z
UID:4682-1771286400-1771372799@www.sdlegionaux.org
SUMMARY:South Dakota ALA Department Office Closed
DESCRIPTION:The South Dakota American Legion Auxiliary Department Office will be closed during this time frame.
URL:https://www.sdlegionaux.org/event/south-dakota-ala-department-office-closed-3/
END:VEVENT
BEGIN:VEVENT
DTSTART;VALUE=DATE:20260206
DTEND;VALUE=DATE:20260207
DTSTAMP:20260423T153352
CREATED:20260109T121251Z
LAST-MODIFIED:20260109T121251Z
UID:4680-1770336000-1770422399@www.sdlegionaux.org
SUMMARY:South Dakota ALA Department Office Closed
DESCRIPTION:The South Dakota American Legion Auxiliary Department Office will be closed during this time frame.
URL:https://www.sdlegionaux.org/event/south-dakota-ala-department-office-closed-2/
END:VEVENT
BEGIN:VEVENT
DTSTART;VALUE=DATE:20260119
DTEND;VALUE=DATE:20260124
DTSTAMP:20260423T153352
CREATED:20260109T121204Z
LAST-MODIFIED:20260109T121204Z
UID:4678-1768780800-1769212799@www.sdlegionaux.org
SUMMARY:South Dakota ALA Department Office Closed
DESCRIPTION:The South Dakota American Legion Auxiliary Department Office will be closed during this time frame.
URL:https://www.sdlegionaux.org/event/south-dakota-ala-department-office-closed/
END:VEVENT
BEGIN:VEVENT
DTSTART;VALUE=DATE:20251216
DTEND;VALUE=DATE:20251217
DTSTAMP:20260423T153352
CREATED:20250924T221928Z
LAST-MODIFIED:20250924T221928Z
UID:4589-1765843200-1765929599@www.sdlegionaux.org
SUMMARY:State Home Christmas Party
DESCRIPTION:Location: State Home\nTime: 2:00 – 4:00 pm MT
URL:https://www.sdlegionaux.org/event/state-home-christmas-party/
END:VEVENT
BEGIN:VEVENT
DTSTART;VALUE=DATE:20251215
DTEND;VALUE=DATE:20251216
DTSTAMP:20260423T153352
CREATED:20250924T221820Z
LAST-MODIFIED:20250924T221820Z
UID:4587-1765756800-1765843199@www.sdlegionaux.org
SUMMARY:Ft Meade VA Christmas Party
DESCRIPTION:Location: Ft Meade VA\nTime: 1:00 – 3:00 pm MT
URL:https://www.sdlegionaux.org/event/ft-meade-va-christmas-party/
END:VEVENT
BEGIN:VEVENT
DTSTART;VALUE=DATE:20251214
DTEND;VALUE=DATE:20251215
DTSTAMP:20260423T153352
CREATED:20250924T221657Z
LAST-MODIFIED:20250924T221657Z
UID:4585-1765670400-1765756799@www.sdlegionaux.org
SUMMARY:Hot Springs VA Christmas Party
DESCRIPTION:Location: Hot Springs VA\nTime: 1:00 – 3:00 MT
URL:https://www.sdlegionaux.org/event/hot-springs-va-christmas-party/
END:VEVENT
BEGIN:VEVENT
DTSTART;VALUE=DATE:20251209
DTEND;VALUE=DATE:20251210
DTSTAMP:20260423T153352
CREATED:20250924T221542Z
LAST-MODIFIED:20250924T221542Z
UID:4583-1765238400-1765324799@www.sdlegionaux.org
SUMMARY:Human Service Center Christmas Party
DESCRIPTION:Location: Human Services Center\, Yankton SD\nTime: 5:00 – 7:00 pm
URL:https://www.sdlegionaux.org/event/human-service-center-christmas-party/
END:VEVENT
BEGIN:VEVENT
DTSTART;VALUE=DATE:20251209
DTEND;VALUE=DATE:20251210
DTSTAMP:20260423T153352
CREATED:20250924T221340Z
LAST-MODIFIED:20250924T221340Z
UID:4581-1765238400-1765238400@www.sdlegionaux.org
SUMMARY:Sioux Falls VA Christmas Party
DESCRIPTION:Location: Sioux Falls VA Auditorium\nTime: 2:00- 4:00 pm
URL:https://www.sdlegionaux.org/event/sioux-falls-va-christmas-party/
END:VEVENT
BEGIN:VEVENT
DTSTART;VALUE=DATE:20251201
DTEND;VALUE=DATE:20251203
DTSTAMP:20260423T153352
CREATED:20250924T223200Z
LAST-MODIFIED:20250924T223200Z
UID:4598-1764547200-1764719999@www.sdlegionaux.org
SUMMARY:Sioux Falls VA Gift Shop
DESCRIPTION:Date/Time:\n     12/1/2025 Shopping 7:00 am – 3:00 pm CT\n     12/2/2025 Shopping 7:00 am – ? CT
URL:https://www.sdlegionaux.org/event/sioux-falls-va-gift-shop/
END:VEVENT
BEGIN:VEVENT
DTSTART;VALUE=DATE:20251119
DTEND;VALUE=DATE:20251122
DTSTAMP:20260423T153352
CREATED:20250924T222946Z
LAST-MODIFIED:20250924T222946Z
UID:4596-1763510400-1763769599@www.sdlegionaux.org
SUMMARY:Hot Springs VA Gift Shop
DESCRIPTION:Date/Time:\n     11/19/2025 Shopping 1:00 – 3:00 AND 5:00 – 8:00  MT\n     11/20/2025 Shopping 10:00 – 3:00 AND 5:00 – 8:00  MT\n     11/21/2025 Shopping 10:00 am – ? MT
URL:https://www.sdlegionaux.org/event/hot-springs-va-gift-shop/
END:VEVENT
BEGIN:VEVENT
DTSTART;VALUE=DATE:20251116
DTEND;VALUE=DATE:20251119
DTSTAMP:20260423T153352
CREATED:20250924T222325Z
LAST-MODIFIED:20250924T222325Z
UID:4591-1763251200-1763510399@www.sdlegionaux.org
SUMMARY:Ft Mead Gift Shop
DESCRIPTION:Date/Time:\n      11/16/2025 Setup 10:00 am – ? MT \n      11/17/2025 Shopping 9:00 am – ? MT\n      11/18/2025 Shopping 9:00 am – ? MT
URL:https://www.sdlegionaux.org/event/ft-mead-gift-shop/
END:VEVENT
BEGIN:VEVENT
DTSTART;VALUE=DATE:20251116
DTEND;VALUE=DATE:20251119
DTSTAMP:20260423T153352
CREATED:20250924T222542Z
LAST-MODIFIED:20250924T222542Z
UID:4594-1763251200-1763510399@www.sdlegionaux.org
SUMMARY:State Home Gift Shop
DESCRIPTION:Date/Time:\n      11/16/2025 Setup 10:00 am – ? MT\n      11/17/2025 Shopping 10:00 am – 4:00 pm MT\n      11/18/2025 Shopping 10:00 am – ? MT
URL:https://www.sdlegionaux.org/event/state-home-gift-shop/
END:VEVENT
BEGIN:VEVENT
DTSTART;VALUE=DATE:20251012
DTEND;VALUE=DATE:20251013
DTSTAMP:20260423T153352
CREATED:20250902T233551Z
LAST-MODIFIED:20250902T233551Z
UID:4524-1760227200-1760313599@www.sdlegionaux.org
SUMMARY:2025 District 5 - Fall Meeting
DESCRIPTION:Location: Sisseton\, SD – Rosalee’s Restaurant \nMeal: On your own – 12:30 pm\nMeeting: 2:00 pm\nSocial: after meeting
URL:https://www.sdlegionaux.org/event/2025-district-5-fall-meeting/
END:VEVENT
BEGIN:VEVENT
DTSTART;VALUE=DATE:20251011
DTEND;VALUE=DATE:20251012
DTSTAMP:20260423T153352
CREATED:20250902T233659Z
LAST-MODIFIED:20250902T233659Z
UID:4522-1760140800-1760227199@www.sdlegionaux.org
SUMMARY:2025 District 4 - Fall Meeting
DESCRIPTION:Location: Stratford\, SD – Stratford Post Home \nMeeting: 1:00 pm\nMeal: after meeting
URL:https://www.sdlegionaux.org/event/2025-district-4-fall-meeting/
END:VEVENT
BEGIN:VEVENT
DTSTART;VALUE=DATE:20250928
DTEND;VALUE=DATE:20250929
DTSTAMP:20260423T153352
CREATED:20250902T233218Z
LAST-MODIFIED:20250902T233218Z
UID:4526-1759017600-1759103999@www.sdlegionaux.org
SUMMARY:2025 District 6 - Fall Meeting
DESCRIPTION:Location: Huron\, SD – Beadle County Sportsmans Club \nSocial: 11:30 am\nMeal: 12:00 pm\nMeeting: 1:30 pm
URL:https://www.sdlegionaux.org/event/2025-district-6-fall-meeting/
END:VEVENT
BEGIN:VEVENT
DTSTART;VALUE=DATE:20250927
DTEND;VALUE=DATE:20250928
DTSTAMP:20260423T153352
CREATED:20250902T233351Z
LAST-MODIFIED:20250902T233351Z
UID:4520-1758931200-1759017599@www.sdlegionaux.org
SUMMARY:2025 District 3 - Fall Meeting
DESCRIPTION:Location: Pierre\, SD – Post 8 Home – Log Cabin \nSocial: 11:30 am\nMeal: 12:00 pm\nMeeting: 1:00 pm
URL:https://www.sdlegionaux.org/event/2025-district-3-fall-meeting/
END:VEVENT
BEGIN:VEVENT
DTSTART;VALUE=DATE:20250914
DTEND;VALUE=DATE:20250915
DTSTAMP:20260423T153352
CREATED:20250902T233014Z
LAST-MODIFIED:20250902T233755Z
UID:4516-1757808000-1757894399@www.sdlegionaux.org
SUMMARY:2025 District 1 - Fall Meeting
DESCRIPTION:Location: Deadwood\, SD – Post 31 Home  \nSocial: 11:30 am\nLunch:\nMeeting: 12:30 pm
URL:https://www.sdlegionaux.org/event/2025-district-1-fall-meeting/
END:VEVENT
BEGIN:VEVENT
DTSTART;VALUE=DATE:20250913
DTEND;VALUE=DATE:20250914
DTSTAMP:20260423T153352
CREATED:20250902T232835Z
LAST-MODIFIED:20250902T232835Z
UID:4518-1757721600-1757807999@www.sdlegionaux.org
SUMMARY:2025 District 2 - Fall Meeting
DESCRIPTION:Location: Hermosa\, SD – Post Home\nSocial: 11:00 am\nMeal: 12:00 pm\nMeeting: 1:00 pm
URL:https://www.sdlegionaux.org/event/2025-district-2-fall-meeting/
END:VEVENT
BEGIN:VEVENT
DTSTART;VALUE=DATE:20250907
DTEND;VALUE=DATE:20250908
DTSTAMP:20260423T153352
CREATED:20250902T232653Z
LAST-MODIFIED:20250902T232653Z
UID:4530-1757203200-1757289599@www.sdlegionaux.org
SUMMARY:2025 District 8 - Fall Meeting
DESCRIPTION:Location: Irene\, SD  – Irene Community Center \nSocial: 12:00 pm\nMeal: 1:00 pm\nMeeting: 2:00 pm
URL:https://www.sdlegionaux.org/event/2025-district-8-fall-meeting/
END:VEVENT
END:VCALENDAR