BEGIN:VCALENDAR
VERSION:2.0
PRODID:-//  South Dakota American Legion Auxiliary - ECPv6.13.2.1//NONSGML v1.0//EN
CALSCALE:GREGORIAN
METHOD:PUBLISH
X-WR-CALNAME:  South Dakota American Legion Auxiliary
X-ORIGINAL-URL:https://www.sdlegionaux.org
X-WR-CALDESC:Events for   South Dakota American Legion Auxiliary
REFRESH-INTERVAL;VALUE=DURATION:PT1H
X-Robots-Tag:noindex
X-PUBLISHED-TTL:PT1H
BEGIN:VTIMEZONE
TZID:UTC
BEGIN:STANDARD
TZOFFSETFROM:+0000
TZOFFSETTO:+0000
TZNAME:UTC
DTSTART:20260101T000000
END:STANDARD
END:VTIMEZONE
BEGIN:VEVENT
DTSTART;VALUE=DATE:20260501
DTEND;VALUE=DATE:20260506
DTSTAMP:20260423T121205
CREATED:20260318T150739Z
LAST-MODIFIED:20260318T150739Z
UID:4867-1777593600-1778025599@www.sdlegionaux.org
SUMMARY:South Dakota ALA Department Office Closed
DESCRIPTION:The South Dakota American Legion Auxiliary Department Office will be closed during this time frame.
URL:https://www.sdlegionaux.org/event/south-dakota-ala-department-office-closed-7/
END:VEVENT
BEGIN:VEVENT
DTSTART;VALUE=DATE:20260501
DTEND;VALUE=DATE:20260526
DTSTAMP:20260423T121205
CREATED:20260331T012643Z
LAST-MODIFIED:20260331T013243Z
UID:4888-1777593600-1779753599@www.sdlegionaux.org
SUMMARY:Miles For Honor
DESCRIPTION:MILES FOR HONOR OVERVIEW: \nA Solo Run Across South Dakota in Tribute to our Fallen Heroes \nRoute: South Dakota Military Heritage Alliance (Sioux Falls) to\nHarley-Davidson Rally Point Plaza (Sturgis) \nDates: May 1 – May 25\, 2026 \nDistance: Approximately 450 miles on foot \nLocation Start: South Dakota Military Heritage Alliance 1600 W Russell Street Sioux Falls\, SD 57104-1330 \nLocation End: Harley-Davidson Rally Point Plaza 985 Harley Davidson Way Sturgis\, SD 57785-8503 \nInformational Flyer:  2026 Miles of Honor_FV  \nFacebook information: Facebook – Miles of Honor
URL:https://www.sdlegionaux.org/event/miles-for-honor/
END:VEVENT
BEGIN:VEVENT
DTSTART;VALUE=DATE:20260507
DTEND;VALUE=DATE:20260511
DTSTAMP:20260423T121205
CREATED:20260109T121549Z
LAST-MODIFIED:20260109T121549Z
UID:4688-1778112000-1778457599@www.sdlegionaux.org
SUMMARY:South Dakota ALA Department Office Closed
DESCRIPTION:The South Dakota American Legion Auxiliary Department Office will be closed during this time frame.
URL:https://www.sdlegionaux.org/event/south-dakota-ala-department-office-closed-6/
END:VEVENT
BEGIN:VEVENT
DTSTART;VALUE=DATE:20260618
DTEND;VALUE=DATE:20260622
DTSTAMP:20260423T121205
CREATED:20250921T214755Z
LAST-MODIFIED:20260320T132539Z
UID:4535-1781740800-1782086399@www.sdlegionaux.org
SUMMARY:2026 State Convention
DESCRIPTION:105th Annual Convention of The American Legion Auxiliary Department of South Dakota \nJune 18 – 21\, 2026\nBest Western Ramkota Hotel and Aberdeen Convention Center \nAddress:\n1400 8th Ave NW\nAberdeen\, SD 57401\nPhone: 605-229-4040 \nWhen making reservations\, please mention that you are with the American Legion Auxiliary. There is a block of hotel rooms reserved for our Convention that does not show on online reservation websites.
URL:https://www.sdlegionaux.org/event/2026-state-convention/
END:VEVENT
BEGIN:VEVENT
DTSTART;VALUE=DATE:20270219
DTEND;VALUE=DATE:20270222
DTSTAMP:20260423T121205
CREATED:20260320T132748Z
LAST-MODIFIED:20260320T132748Z
UID:4873-1802995200-1803254399@www.sdlegionaux.org
SUMMARY:2027 Mid-Winter Conference
DESCRIPTION:Location: Cedar Shores Resort Oacoma\, SD \nDates: February 19-21\, 2027
URL:https://www.sdlegionaux.org/event/2027-mid-winter-conference/
END:VEVENT
BEGIN:VEVENT
DTSTART;VALUE=DATE:20270617
DTEND;VALUE=DATE:20270621
DTSTAMP:20260423T121205
CREATED:20260320T132927Z
LAST-MODIFIED:20260320T132927Z
UID:4875-1813190400-1813535999@www.sdlegionaux.org
SUMMARY:2027 State Convention
DESCRIPTION:Location: Ramkota  Sioux Falls\, SD \nDates: June 17-20\, 2027
URL:https://www.sdlegionaux.org/event/2027-state-convention/
END:VEVENT
BEGIN:VEVENT
DTSTART;VALUE=DATE:20280218
DTEND;VALUE=DATE:20280221
DTSTAMP:20260423T121205
CREATED:20260320T133104Z
LAST-MODIFIED:20260320T133104Z
UID:4877-1834444800-1834703999@www.sdlegionaux.org
SUMMARY:2028 Mid-Winter Conference
DESCRIPTION:Location: Cedar Shores Resort  Oacoma\, SD \nDates: February 18-20\, 2028
URL:https://www.sdlegionaux.org/event/2028-mid-winter-conference/
END:VEVENT
BEGIN:VEVENT
DTSTART;VALUE=DATE:20280615
DTEND;VALUE=DATE:20280619
DTSTAMP:20260423T121205
CREATED:20260320T133230Z
LAST-MODIFIED:20260320T133230Z
UID:4879-1844640000-1844985599@www.sdlegionaux.org
SUMMARY:2028 State Convention
DESCRIPTION:Location: Huron Event Center   Huron\, SD \nDates: June 15-18\, 2028
URL:https://www.sdlegionaux.org/event/2028-state-convention/
END:VEVENT
BEGIN:VEVENT
DTSTART;VALUE=DATE:20290209
DTEND;VALUE=DATE:20290212
DTSTAMP:20260423T121205
CREATED:20260320T133354Z
LAST-MODIFIED:20260320T133354Z
UID:4881-1865289600-1865548799@www.sdlegionaux.org
SUMMARY:2029 Mid-Winter Conference
DESCRIPTION:Location: The Lodge at Deadwood \nDates: February 9-11\, 2029
URL:https://www.sdlegionaux.org/event/2029-mid-winter-conference/
END:VEVENT
BEGIN:VEVENT
DTSTART;VALUE=DATE:20290614
DTEND;VALUE=DATE:20290618
DTSTAMP:20260423T121205
CREATED:20260320T133522Z
LAST-MODIFIED:20260320T133522Z
UID:4883-1876089600-1876435199@www.sdlegionaux.org
SUMMARY:2029 State Convention
DESCRIPTION:Location: Huron Events Center  Huron\, SD \nDates: June 14-17\, 2029
URL:https://www.sdlegionaux.org/event/2029-state-convention/
END:VEVENT
BEGIN:VEVENT
DTSTART;VALUE=DATE:20300208
DTEND;VALUE=DATE:20300211
DTSTAMP:20260423T121205
CREATED:20260320T133642Z
LAST-MODIFIED:20260320T133642Z
UID:4885-1896739200-1896998399@www.sdlegionaux.org
SUMMARY:2030 Mid-Winter Conference
DESCRIPTION:Location: Cedar Shores Resort  Oacoma\, SD \nDates: February 8-10\, 20230
URL:https://www.sdlegionaux.org/event/2030-mid-winter-conference/
END:VEVENT
END:VCALENDAR